BEGIN:VCALENDAR
VERSION:2.0
PRODID:-//Great Bear Ski Valley - ECPv6.13.0//NONSGML v1.0//EN
CALSCALE:GREGORIAN
METHOD:PUBLISH
X-ORIGINAL-URL:https://www.greatbearpark.com
X-WR-CALDESC:Events for Great Bear Ski Valley
REFRESH-INTERVAL;VALUE=DURATION:PT1H
X-Robots-Tag:noindex
X-PUBLISHED-TTL:PT1H
BEGIN:VTIMEZONE
TZID:America/Chicago
BEGIN:DAYLIGHT
TZOFFSETFROM:-0600
TZOFFSETTO:-0500
TZNAME:CDT
DTSTART:20260308T080000
END:DAYLIGHT
BEGIN:STANDARD
TZOFFSETFROM:-0500
TZOFFSETTO:-0600
TZNAME:CST
DTSTART:20261101T070000
END:STANDARD
END:VTIMEZONE
BEGIN:VEVENT
DTSTART;TZID=America/Chicago:20260603T170000
DTEND;TZID=America/Chicago:20260603T200000
DTSTAMP:20260425T222632
CREATED:20260311T202537Z
LAST-MODIFIED:20260422T205130Z
UID:10003804-1780506000-1780516800@www.greatbearpark.com
SUMMARY:Chill At The Hill Presented By All American Gymnastics Academy
DESCRIPTION:Chill At The Hill is back!\nEvery Wednesday June – September from 5:00pm – 8:00pm you will enjoy local eats\, local entertainment\, games\, Great Bear beverages and the perfect vibes to carry you into Summer! \nJune 3rd: Presented by All American Gymnastics Academy\n \nEnjoy Local Eats for Southern Perfection BBQ \n   \nEnjoy Local Musician Todd Casilli! \n\nAnd Jolene is Back with Bingo at the Bear! Bingo will begin at 6:00pm and run roughly 90 minutes. \n \nSummer at The Bear has never looked so CHILL!
URL:https://www.greatbearpark.com/event/chill-at-the-hill-4-2/
CATEGORIES:Events
ATTACH;FMTTYPE=image/png:https://www.greatbearpark.com/wp-content/uploads/2026/03/Screenshot-2026-03-11-at-3.26.51-PM.png
END:VEVENT
BEGIN:VEVENT
DTSTART;TZID=America/Chicago:20260610T170000
DTEND;TZID=America/Chicago:20260610T200000
DTSTAMP:20260425T222632
CREATED:20260311T213216Z
LAST-MODIFIED:20260422T205257Z
UID:10003805-1781110800-1781121600@www.greatbearpark.com
SUMMARY:Chill At The Hill Presented By Honner Painting
DESCRIPTION:Chill At The Hill is back!\nEvery Wednesday June – September from 5:00pm – 8:00pm you will enjoy local eats\, local entertainment\, games\, Great Bear beverages and the perfect vibes to carry you into Summer! \nJune 10th: Presented by Honner Painting\n \nEnjoy Local Eats from 605 Island Guy and Local Musician Zon Tran! \n \nJoin Bingo at The Bear starting at 6:00pm running for 90 minutes \n \nOr join Sioux Falls Biking Races! \n \nSummer at The Bear has never looked so CHILL!\n 
URL:https://www.greatbearpark.com/event/chill-at-the-hill-4-3/
CATEGORIES:Events
ATTACH;FMTTYPE=image/png:https://www.greatbearpark.com/wp-content/uploads/2026/03/Screenshot-2026-03-11-at-4.31.49-PM.png
END:VEVENT
BEGIN:VEVENT
DTSTART;TZID=America/Chicago:20260617T170000
DTEND;TZID=America/Chicago:20260617T200000
DTSTAMP:20260425T222632
CREATED:20260316T205410Z
LAST-MODIFIED:20260422T182708Z
UID:10003806-1781715600-1781726400@www.greatbearpark.com
SUMMARY:Chill At The Hill Presented by Children's Dental Center / Parkway Orthodontics
DESCRIPTION:Chill At The Hill is back!\nEvery Wednesday June – September from 5:00pm – 8:00pm you will enjoy local eats\, local music\, games\, Great Bear beverages and the perfect vibes to carry you into Summer! \nJune 17th: Presented by Children’s Dental Center / Parkway Orthodontics\nEnjoy Local Eats from Willy’s food truck and Pinnacle Production’s Singo! \n \n \nSummer at The Bear has never looked so CHILL!
URL:https://www.greatbearpark.com/event/chill-at-the-hill-4-4/
CATEGORIES:Events
ATTACH;FMTTYPE=image/png:https://www.greatbearpark.com/wp-content/uploads/2026/03/Screenshot-2026-03-16-at-3.51.12-PM.png
END:VEVENT
BEGIN:VEVENT
DTSTART;TZID=America/Chicago:20260624T170000
DTEND;TZID=America/Chicago:20260624T200000
DTSTAMP:20260425T222632
CREATED:20260316T210228Z
LAST-MODIFIED:20260422T184258Z
UID:10003807-1782320400-1782331200@www.greatbearpark.com
SUMMARY:Chill At The Hill Presented by Experience Sioux Falls
DESCRIPTION:Chill At The Hill is back!\nEvery Wednesday June – September from 5:00pm – 8:00pm you will enjoy local eats\, local music\, games\, Great Bear beverages and the perfect vibes to carry you into Summer! \nJune 24th: Presented by Experience Sioux Falls\n \nEnjoy Local musician Tony DePaolo and Great Bear has you covered for the perfect dinner! (Menu to come) \n \nJoin us for Bingo at the Bear starting at 6:00pm\, running for 90 minutes! \n \nGreat Bear is proud to host a Porsche Car Show! (More information to come!) \nSummer at The Bear has never looked so CHILL!
URL:https://www.greatbearpark.com/event/chill-at-the-hill-4-5/
CATEGORIES:Events
ATTACH;FMTTYPE=image/png:https://www.greatbearpark.com/wp-content/uploads/2026/03/Screenshot-2026-03-16-at-4.02.06-PM.png
END:VEVENT
BEGIN:VEVENT
DTSTART;TZID=America/Chicago:20260701T170000
DTEND;TZID=America/Chicago:20260701T200000
DTSTAMP:20260425T222632
CREATED:20260422T184821Z
LAST-MODIFIED:20260422T184821Z
UID:10003808-1782925200-1782936000@www.greatbearpark.com
SUMMARY:Chill At The Hill
DESCRIPTION:Chill At The Hill is back!\nEvery Wednesday June – September from 5:00pm – 8:00pm you will enjoy local eats\, local music\, games\, Great Bear beverages and the perfect vibes to carry you into Summer! \nJuly 1st:\nEnjoy local musician Don McKenna and local eats from Corn Dog Co! \n \nEnjoy games from Sioux Falls Parks and Recreation Mobile Recreation Unit! \n \nSummer at The Bear has never looked so CHILL!
URL:https://www.greatbearpark.com/event/chill-at-the-hill-4-6/
CATEGORIES:Events
ATTACH;FMTTYPE=image/png:https://www.greatbearpark.com/wp-content/uploads/2026/03/Screenshot-2026-04-22-at-1.46.44-PM.png
END:VEVENT
BEGIN:VEVENT
DTSTART;TZID=America/Chicago:20260708T170000
DTEND;TZID=America/Chicago:20260708T200000
DTSTAMP:20260425T222632
CREATED:20260422T191802Z
LAST-MODIFIED:20260422T191802Z
UID:10003809-1783530000-1783540800@www.greatbearpark.com
SUMMARY:Chill At The Hill
DESCRIPTION:Chill At The Hill is back!\nEvery Wednesday June – September from 5:00pm – 8:00pm you will enjoy local eats\, local music\, games\, Great Bear beverages and the perfect vibes to carry you into Summer! \nEnjoy local musician Link West and local eats from Backyard BBQ! \n \nJoin us for Bingo at the Bear starting at 6:00pm \n \nOr join the Sioux Falls Bike Racing! \n \nSummer at The Bear has never looked so CHILL!
URL:https://www.greatbearpark.com/event/chill-at-the-hill-4-7/
CATEGORIES:Events
ATTACH;FMTTYPE=image/png:https://www.greatbearpark.com/wp-content/uploads/2026/03/Screenshot-2026-04-22-at-2.16.30-PM.png
END:VEVENT
BEGIN:VEVENT
DTSTART;TZID=America/Chicago:20260715T170000
DTEND;TZID=America/Chicago:20260715T200000
DTSTAMP:20260425T222632
CREATED:20260422T193311Z
LAST-MODIFIED:20260422T193311Z
UID:10003810-1784134800-1784145600@www.greatbearpark.com
SUMMARY:Chill At The Hill Presented by First Cash & Exchange
DESCRIPTION:Chill At The Hill is back!\nEvery Wednesday June – September from 5:00pm – 8:00pm you will enjoy local eats\, local entertainment\, games\, Great Bear beverages and the perfect vibes to carry you into Summer! \nJuly 15th: Presented by First Cash & Exchange!\n \nEnjoy local eats from Ollies food truck and join us for Pinnacle Productions’ Singo! \n \nSay Hi to our friends from Almost Canine Rescue while you’re here! \n \nSummer at The Bear has never looked so CHILL!
URL:https://www.greatbearpark.com/event/chill-at-the-hill-4-8/
CATEGORIES:Events
ATTACH;FMTTYPE=image/png:https://www.greatbearpark.com/wp-content/uploads/2026/03/Screenshot-2026-04-22-at-2.32.04-PM.png
END:VEVENT
BEGIN:VEVENT
DTSTART;TZID=America/Chicago:20260722T170000
DTEND;TZID=America/Chicago:20260722T200000
DTSTAMP:20260425T222632
CREATED:20260422T194849Z
LAST-MODIFIED:20260422T194849Z
UID:10003811-1784739600-1784750400@www.greatbearpark.com
SUMMARY:Chill At The Hill
DESCRIPTION:Chill At The Hill is back!\nEvery Wednesday June – September from 5:00pm – 8:00pm you will enjoy local eats\, local music\, games\, Great Bear beverages and the perfect vibes to carry you into Summer! \nEnjoy local musician Telly Mickel and returning local eats Curbside Delights! \n \nJoin us for Bingo at the Bear starting at 6:00pm! \n \nSummer at The Bear has never looked so CHILL!
URL:https://www.greatbearpark.com/event/chill-at-the-hill-4-9/
CATEGORIES:Events
END:VEVENT
BEGIN:VEVENT
DTSTART;TZID=America/Chicago:20260729T170000
DTEND;TZID=America/Chicago:20260729T200000
DTSTAMP:20260425T222632
CREATED:20260422T195858Z
LAST-MODIFIED:20260422T200254Z
UID:10003812-1785344400-1785355200@www.greatbearpark.com
SUMMARY:Chill At The Hill Presented by Marmen Energy
DESCRIPTION:Chill At The Hill is back!\nEvery Wednesday June – September from 5:00pm – 8:00pm you will enjoy local eats\, local music\, games\, Great Bear beverages and the perfect vibes to carry you into Summer! \nJuly 29th: Presented by Marmen Energy!\n \nEnjoy local musician Billy Lurkin\, Great Bear has you covered for dinner(Menu to come) and Street Sweets food truck has you covered for Dessert! \n \n \nALSO\, Great Bear is proud to host the Upper Great Plains Street Rodders! \n \nSummer at The Bear has never looked so CHILL!
URL:https://www.greatbearpark.com/event/chill-at-the-hill-4-10/
CATEGORIES:Events
ATTACH;FMTTYPE=image/png:https://www.greatbearpark.com/wp-content/uploads/2026/03/Screenshot-2026-04-22-at-2.58.12-PM.png
END:VEVENT
BEGIN:VEVENT
DTSTART;TZID=America/Chicago:20260805T170000
DTEND;TZID=America/Chicago:20260805T200000
DTSTAMP:20260425T222632
CREATED:20260311T190337Z
LAST-MODIFIED:20260311T190337Z
UID:10003813-1785949200-1785960000@www.greatbearpark.com
SUMMARY:Chill At The Hill
DESCRIPTION:Chill At The Hill is back!\nEvery Wednesday June – September from 5:00pm – 8:00pm you will enjoy local eats\, local music\, games\, Great Bear beverages and the perfect vibes to carry you into Summer! \nSummer at The Bear has never looked so CHILL!
URL:https://www.greatbearpark.com/event/chill-at-the-hill-4/2026-08-05/
CATEGORIES:Events
END:VEVENT
BEGIN:VEVENT
DTSTART;TZID=America/Chicago:20260812T170000
DTEND;TZID=America/Chicago:20260812T200000
DTSTAMP:20260425T222632
CREATED:20260311T190337Z
LAST-MODIFIED:20260311T190337Z
UID:10003814-1786554000-1786564800@www.greatbearpark.com
SUMMARY:Chill At The Hill
DESCRIPTION:Chill At The Hill is back!\nEvery Wednesday June – September from 5:00pm – 8:00pm you will enjoy local eats\, local music\, games\, Great Bear beverages and the perfect vibes to carry you into Summer! \nSummer at The Bear has never looked so CHILL!
URL:https://www.greatbearpark.com/event/chill-at-the-hill-4/2026-08-12/
CATEGORIES:Events
END:VEVENT
BEGIN:VEVENT
DTSTART;TZID=America/Chicago:20260819T170000
DTEND;TZID=America/Chicago:20260819T200000
DTSTAMP:20260425T222632
CREATED:20260311T190337Z
LAST-MODIFIED:20260311T190337Z
UID:10003815-1787158800-1787169600@www.greatbearpark.com
SUMMARY:Chill At The Hill
DESCRIPTION:Chill At The Hill is back!\nEvery Wednesday June – September from 5:00pm – 8:00pm you will enjoy local eats\, local music\, games\, Great Bear beverages and the perfect vibes to carry you into Summer! \nSummer at The Bear has never looked so CHILL!
URL:https://www.greatbearpark.com/event/chill-at-the-hill-4/2026-08-19/
CATEGORIES:Events
END:VEVENT
BEGIN:VEVENT
DTSTART;TZID=America/Chicago:20260826T170000
DTEND;TZID=America/Chicago:20260826T200000
DTSTAMP:20260425T222632
CREATED:20260311T190337Z
LAST-MODIFIED:20260311T190337Z
UID:10003816-1787763600-1787774400@www.greatbearpark.com
SUMMARY:Chill At The Hill
DESCRIPTION:Chill At The Hill is back!\nEvery Wednesday June – September from 5:00pm – 8:00pm you will enjoy local eats\, local music\, games\, Great Bear beverages and the perfect vibes to carry you into Summer! \nSummer at The Bear has never looked so CHILL!
URL:https://www.greatbearpark.com/event/chill-at-the-hill-4/2026-08-26/
CATEGORIES:Events
END:VEVENT
BEGIN:VEVENT
DTSTART;TZID=America/Chicago:20260902T170000
DTEND;TZID=America/Chicago:20260902T200000
DTSTAMP:20260425T222632
CREATED:20260311T190337Z
LAST-MODIFIED:20260311T190337Z
UID:10003817-1788368400-1788379200@www.greatbearpark.com
SUMMARY:Chill At The Hill
DESCRIPTION:Chill At The Hill is back!\nEvery Wednesday June – September from 5:00pm – 8:00pm you will enjoy local eats\, local music\, games\, Great Bear beverages and the perfect vibes to carry you into Summer! \nSummer at The Bear has never looked so CHILL!
URL:https://www.greatbearpark.com/event/chill-at-the-hill-4/2026-09-02/
CATEGORIES:Events
END:VEVENT
BEGIN:VEVENT
DTSTART;TZID=America/Chicago:20260909T170000
DTEND;TZID=America/Chicago:20260909T200000
DTSTAMP:20260425T222632
CREATED:20260311T190337Z
LAST-MODIFIED:20260311T190337Z
UID:10003818-1788973200-1788984000@www.greatbearpark.com
SUMMARY:Chill At The Hill
DESCRIPTION:Chill At The Hill is back!\nEvery Wednesday June – September from 5:00pm – 8:00pm you will enjoy local eats\, local music\, games\, Great Bear beverages and the perfect vibes to carry you into Summer! \nSummer at The Bear has never looked so CHILL!
URL:https://www.greatbearpark.com/event/chill-at-the-hill-4/2026-09-09/
CATEGORIES:Events
END:VEVENT
BEGIN:VEVENT
DTSTART;TZID=America/Chicago:20260916T170000
DTEND;TZID=America/Chicago:20260916T200000
DTSTAMP:20260425T222632
CREATED:20260311T190337Z
LAST-MODIFIED:20260311T190337Z
UID:10003819-1789578000-1789588800@www.greatbearpark.com
SUMMARY:Chill At The Hill
DESCRIPTION:Chill At The Hill is back!\nEvery Wednesday June – September from 5:00pm – 8:00pm you will enjoy local eats\, local music\, games\, Great Bear beverages and the perfect vibes to carry you into Summer! \nSummer at The Bear has never looked so CHILL!
URL:https://www.greatbearpark.com/event/chill-at-the-hill-4/2026-09-16/
CATEGORIES:Events
END:VEVENT
BEGIN:VEVENT
DTSTART;TZID=America/Chicago:20260923T170000
DTEND;TZID=America/Chicago:20260923T200000
DTSTAMP:20260425T222632
CREATED:20260311T190337Z
LAST-MODIFIED:20260311T190337Z
UID:10003820-1790182800-1790193600@www.greatbearpark.com
SUMMARY:Chill At The Hill
DESCRIPTION:Chill At The Hill is back!\nEvery Wednesday June – September from 5:00pm – 8:00pm you will enjoy local eats\, local music\, games\, Great Bear beverages and the perfect vibes to carry you into Summer! \nSummer at The Bear has never looked so CHILL!
URL:https://www.greatbearpark.com/event/chill-at-the-hill-4/2026-09-23/
CATEGORIES:Events
END:VEVENT
BEGIN:VEVENT
DTSTART;TZID=America/Chicago:20260930T170000
DTEND;TZID=America/Chicago:20260930T200000
DTSTAMP:20260425T222632
CREATED:20260311T190337Z
LAST-MODIFIED:20260311T190337Z
UID:10003821-1790787600-1790798400@www.greatbearpark.com
SUMMARY:Chill At The Hill
DESCRIPTION:Chill At The Hill is back!\nEvery Wednesday June – September from 5:00pm – 8:00pm you will enjoy local eats\, local music\, games\, Great Bear beverages and the perfect vibes to carry you into Summer! \nSummer at The Bear has never looked so CHILL!
URL:https://www.greatbearpark.com/event/chill-at-the-hill-4/2026-09-30/
CATEGORIES:Events
END:VEVENT
END:VCALENDAR