BEGIN:VCALENDAR
VERSION:2.0
PRODID:-//Great Bear Ski Valley - ECPv6.13.0//NONSGML v1.0//EN
CALSCALE:GREGORIAN
METHOD:PUBLISH
X-WR-CALNAME:Great Bear Ski Valley
X-ORIGINAL-URL:https://www.greatbearpark.com
X-WR-CALDESC:Events for Great Bear Ski Valley
REFRESH-INTERVAL;VALUE=DURATION:PT1H
X-Robots-Tag:noindex
X-PUBLISHED-TTL:PT1H
BEGIN:VTIMEZONE
TZID:America/Chicago
BEGIN:DAYLIGHT
TZOFFSETFROM:-0600
TZOFFSETTO:-0500
TZNAME:CDT
DTSTART:20260308T080000
END:DAYLIGHT
BEGIN:STANDARD
TZOFFSETFROM:-0500
TZOFFSETTO:-0600
TZNAME:CST
DTSTART:20261101T070000
END:STANDARD
END:VTIMEZONE
BEGIN:VEVENT
DTSTART;VALUE=DATE:20260425
DTEND;VALUE=DATE:20260426
DTSTAMP:20260423T180120
CREATED:20260323T181048Z
LAST-MODIFIED:20260323T181322Z
UID:10003828-1777075200-1777161599@www.greatbearpark.com
SUMMARY:BOOKED PRIVATE EVENT
DESCRIPTION:Great Bear Ski Valley lodge is booked for this date for a private event from 12:00pm – 5:00pm.
URL:https://www.greatbearpark.com/event/booked-event-3/
CATEGORIES:Events
ATTACH;FMTTYPE=image/png:https://www.greatbearpark.com/wp-content/uploads/2024/04/Screen-Shot-2024-04-06-at-1.25.46-PM.png
END:VEVENT
END:VCALENDAR