BEGIN:VCALENDAR
VERSION:2.0
PRODID:-//Great Bear Ski Valley - ECPv6.13.0//NONSGML v1.0//EN
CALSCALE:GREGORIAN
METHOD:PUBLISH
X-WR-CALNAME:Great Bear Ski Valley
X-ORIGINAL-URL:https://www.greatbearpark.com
X-WR-CALDESC:Events for Great Bear Ski Valley
REFRESH-INTERVAL;VALUE=DURATION:PT1H
X-Robots-Tag:noindex
X-PUBLISHED-TTL:PT1H
BEGIN:VTIMEZONE
TZID:America/Chicago
BEGIN:DAYLIGHT
TZOFFSETFROM:-0600
TZOFFSETTO:-0500
TZNAME:CDT
DTSTART:20250309T080000
END:DAYLIGHT
BEGIN:STANDARD
TZOFFSETFROM:-0500
TZOFFSETTO:-0600
TZNAME:CST
DTSTART:20251102T070000
END:STANDARD
END:VTIMEZONE
BEGIN:VEVENT
DTSTART;TZID=America/Chicago:20250220T180000
DTEND;TZID=America/Chicago:20250220T210000
DTSTAMP:20260419T170545
CREATED:20241211T210315Z
LAST-MODIFIED:20250102T234247Z
UID:10002725-1740074400-1740085200@www.greatbearpark.com
SUMMARY:Womxn of Winter
DESCRIPTION:Womxn of Winter meet on Thursdays during the season to foster the womxn winter community with Spoke ‘N Sport! Each week\, the group has a fun\, outdoor-oriented activity.\n\n\n\n\n\n\n$50 MEMBERSHIP FEE\nTo join for the season or try it out for the night with the $10 daily fee! \nDISCOUNTED TICKETS & RENTALS\nGet $10 equipment rentals and $15 lift tickets on Thursdays and Sundays. \n\n\n\n\n\n\n\nALL ARE WELCOME\n\nSkiers & snowboarders of all skill levels including non-skiers are welcome to join! Womxn of Winter is open to women\, trans folks and gender-expansive folks. \n\n\n\n\n\n\nInterested in joining? Contact Jayne at jvanderberg@greatbearpark.com
URL:https://www.greatbearpark.com/event/womxn-of-winter-3/2025-02-20/
CATEGORIES:Events
END:VEVENT
END:VCALENDAR