BEGIN:VCALENDAR
VERSION:2.0
PRODID:-//Great Bear Ski Valley - ECPv6.13.0//NONSGML v1.0//EN
CALSCALE:GREGORIAN
METHOD:PUBLISH
X-WR-CALNAME:Great Bear Ski Valley
X-ORIGINAL-URL:https://www.greatbearpark.com
X-WR-CALDESC:Events for Great Bear Ski Valley
REFRESH-INTERVAL;VALUE=DURATION:PT1H
X-Robots-Tag:noindex
X-PUBLISHED-TTL:PT1H
BEGIN:VTIMEZONE
TZID:America/Chicago
BEGIN:DAYLIGHT
TZOFFSETFROM:-0600
TZOFFSETTO:-0500
TZNAME:CDT
DTSTART:20240310T080000
END:DAYLIGHT
BEGIN:STANDARD
TZOFFSETFROM:-0500
TZOFFSETTO:-0600
TZNAME:CST
DTSTART:20241103T070000
END:STANDARD
END:VTIMEZONE
BEGIN:VEVENT
DTSTART;TZID=America/Chicago:20240110T150000
DTEND;TZID=America/Chicago:20240110T210000
DTSTAMP:20260425T211226
CREATED:20231011T162514Z
LAST-MODIFIED:20240222T153351Z
UID:10001230-1704898800-1704920400@www.greatbearpark.com
SUMMARY:Ski & Snowboard Hours
DESCRIPTION:Weekday Lift Ticket 3 pm to 9 pm – $33\n5 & Under Lift Ticket free with paid adult or paid lesson\n\nBuy tickets: http://sportcodestore.com/greatbear \n\n\nEquipment rental sizes are limited and on a first come first serve basis. Rental Equipment can only be purchased in person at Guest Services. Rental waiver: https://www.sportcodestore.com/greatbear/rental  \n\n\nLast run 15 minutes before the end of each session.
URL:https://www.greatbearpark.com/event/ski-snowboard-hours-16/2024-01-10/
CATEGORIES:Ski Hours & Rates
END:VEVENT
END:VCALENDAR