BEGIN:VCALENDAR
VERSION:2.0
PRODID:-//Great Bear Ski Valley - ECPv6.13.0//NONSGML v1.0//EN
CALSCALE:GREGORIAN
METHOD:PUBLISH
X-WR-CALNAME:Great Bear Ski Valley
X-ORIGINAL-URL:https://www.greatbearpark.com
X-WR-CALDESC:Events for Great Bear Ski Valley
REFRESH-INTERVAL;VALUE=DURATION:PT1H
X-Robots-Tag:noindex
X-PUBLISHED-TTL:PT1H
BEGIN:VTIMEZONE
TZID:America/Chicago
BEGIN:DAYLIGHT
TZOFFSETFROM:-0600
TZOFFSETTO:-0500
TZNAME:CDT
DTSTART:20250309T080000
END:DAYLIGHT
BEGIN:STANDARD
TZOFFSETFROM:-0500
TZOFFSETTO:-0600
TZNAME:CST
DTSTART:20251102T070000
END:STANDARD
END:VTIMEZONE
BEGIN:VEVENT
DTSTART;TZID=America/Chicago:20250119T130000
DTEND;TZID=America/Chicago:20250119T150000
DTSTAMP:20260419T101827
CREATED:20241203T184044Z
LAST-MODIFIED:20250116T204852Z
UID:12005-1737291600-1737298800@www.greatbearpark.com
SUMMARY:CANCELED Race presented by Stockwell!
DESCRIPTION:Celebrate winter sports with some friendly competition with our Stockwell Ski & Snowboard Race on Sunday\, January 19 benefiting Wheels For Jackson!\n\nCompetitors of all ages and skill levels are invited to race!\n\nRacers may register at Guest Services the day of the event. There is a $10 entry fee with the chance to win a trophy and door prizes.\n\nRegistration closes at 12:15 pm\, and the race starts at 1 pm with an award ceremony to follow.\n\nRegular skiing and snowboarding still open to the public.\n\nEarn points each week toward our Invitational on March 2\, 2025! 1st place receives 5 points\, 2nd 4 points\, 3rd 3 points\, 4th 2 points and 5th 1 one. Top 10 highest scoring races from the season will be invited to compete on March 2!
URL:https://www.greatbearpark.com/event/race-presented-by-stockwell/
CATEGORIES:Events
END:VEVENT
END:VCALENDAR