BEGIN:VCALENDAR
VERSION:2.0
PRODID:-//Great Bear Ski Valley - ECPv6.13.0//NONSGML v1.0//EN
CALSCALE:GREGORIAN
METHOD:PUBLISH
X-WR-CALNAME:Great Bear Ski Valley
X-ORIGINAL-URL:https://www.greatbearpark.com
X-WR-CALDESC:Events for Great Bear Ski Valley
REFRESH-INTERVAL;VALUE=DURATION:PT1H
X-Robots-Tag:noindex
X-PUBLISHED-TTL:PT1H
BEGIN:VTIMEZONE
TZID:America/Chicago
BEGIN:DAYLIGHT
TZOFFSETFROM:-0600
TZOFFSETTO:-0500
TZNAME:CDT
DTSTART:20220313T080000
END:DAYLIGHT
BEGIN:STANDARD
TZOFFSETFROM:-0500
TZOFFSETTO:-0600
TZNAME:CST
DTSTART:20221106T070000
END:STANDARD
END:VTIMEZONE
BEGIN:VEVENT
DTSTART;VALUE=DATE:20221014
DTEND;VALUE=DATE:20221017
DTSTAMP:20260423T161934
CREATED:20221003T172523Z
LAST-MODIFIED:20221014T204504Z
UID:5467-1665705600-1665964799@www.greatbearpark.com
SUMMARY:OctoBEARfest Season Pass & Gift Card Sale!
DESCRIPTION:At OctoBEARfest\, get the lowest prices of the year on season passes. Plus\, get an extra 10% on Great Bear gift cards and sign up for our new youth lesson program\, Snow Riders Academy! \nBUY NOW \nSALE HOURS\n\nFriday\, Oct. 14 – 12pm to 7pm (Pa & Sons Food Truck 4pm to 7pm)\nSaturday\, Oct. 15 – 9am to 3pm (Chubby’s & SDSU Ice Cream Truck 11am to 2pm)\nSunday\, Oct. 16 – 11am to 4pm (The Smoked Culture Food Truck 11am to 2pm)\n\nPlus\, our friends at Spoke-N-Sport will be out! \nSEASON PASS RATES FOR OCTOBEARFEST\nREGULAR (SKI & SNOWBOARD ONLY) $235 (SAVE $65)\nALL AREA (INCLUDES TUBING) $369 (SAVE $41)\nTUBING $139 (SAVE $20)\nFAMILY REGULAR $799 (SAVE $170)\nFour people in the same household. Each additional pass $100 (save $25). \nALL AREA FAMILY  $1199 (SAVE $145) \nFour people in the same household. Each additional pass $149 (save $50). \nRENTAL $200 (SAVE $25)\nBUY NOW \nOTHER RATES\n10 USE SKI & SNOWBOARD PUNCH CARD $250\nLift Tickets Only\, Transferable \n5 USE SKI & SNOWBOARD PUNCH CARD  $135\nLift Tickets Only\, Transferable \nPRIVATE LESSON PUNCH CARD $155\n3 Private Lessons\, 1.5 Hours Each \nPRIVATE LESSON PACKAGE PUNCH CARD $360\n1.5-Hour Private Lesson\, Lift Ticket & Rental For 3 Visits \nBUY NOW \nSNOW RIDERS ACADEMY\nNow offering a new youth lesson program – Snow Riders Academy! This 3-lesson program puts an emphasis on safety and fun\, while allowing participants (ages 7 to 14) to move through the levels at their own pace. Each lesson is 90 minutes. Registration opens October 14! \nThe January session will be held January 7\, 14 and 21. If a class is canceled due to weather\, a make-up class will be held January 28. The February session will be held February 4\, 11 and 18. If a class is canceled due to weather\, a make-up class will be held February 25. When the session is completed\, each student will receive a bonus lift ticket! Each session is $200 (includes full day lift tickets). If the student needs rentals\, it is an additional $100. \nBUY NOW \nADDITIONAL WAYS TO SAVE ON SEASON PASSES\n(Not Valid Online or on Punch Cards)\n\n5th GRADE DAYS participants from the 21-22 season receive an extra 15% off\nSIOUX VALLEY CYCLE CLUB members and family (up to 4) receive an extra 15% off (upon presentation of offer letter)\nSANFORD HEALTH staff & Wellness Center members and family (up to 4) receive an extra 15% off (upon proof of employment or membership)\nMILITARY & FIRST RESPONDERS and family (up to 4) receive an extra 15% off with valid I.D.\n\nTo get any of the above discounts\, please purchase your pass in person at Great Bear or contact jlerdal@greatbearpark.com. \nAlso\, guests who sign up for ADULT SKI & SNOWBOARD LEAGUE or WOMXN OF WINTER ($50 fee) receive an extra 15% off. \n  \nSEASON PASS BENEFITS\n\nNEW Season Pass Sunday! On Sunday evenings from 6 pm to 8:30 pm (excluding holiday hours)\, skiing and snowboarding will only be open for season passholders and employees\n4 buddy lift tickets to bring a friend (does not include rental equipment)\n10% off regularly priced items at Spoke-N-Sport through September 30\, 2023 (exclusions may apply)\nDeals at sister ski areas\nFree ticket to the Midwest Premiere of “Anywhere From Here” ski movie at the Washington Pavilion Nov. 18
URL:https://www.greatbearpark.com/event/octobearfest-season-pass-gift-card-sale/
CATEGORIES:Promotions
ATTACH;FMTTYPE=image/jpeg:https://www.greatbearpark.com/wp-content/uploads/2022/10/OctoBEARFest2022_Email.jpg
END:VEVENT
END:VCALENDAR