BEGIN:VCALENDAR
VERSION:2.0
PRODID:-//Great Bear Ski Valley - ECPv6.13.0//NONSGML v1.0//EN
CALSCALE:GREGORIAN
METHOD:PUBLISH
X-WR-CALNAME:Great Bear Ski Valley
X-ORIGINAL-URL:https://www.greatbearpark.com
X-WR-CALDESC:Events for Great Bear Ski Valley
REFRESH-INTERVAL;VALUE=DURATION:PT1H
X-Robots-Tag:noindex
X-PUBLISHED-TTL:PT1H
BEGIN:VTIMEZONE
TZID:America/Chicago
BEGIN:DAYLIGHT
TZOFFSETFROM:-0600
TZOFFSETTO:-0500
TZNAME:CDT
DTSTART:20230312T080000
END:DAYLIGHT
BEGIN:STANDARD
TZOFFSETFROM:-0500
TZOFFSETTO:-0600
TZNAME:CST
DTSTART:20231105T070000
END:STANDARD
END:VTIMEZONE
BEGIN:VEVENT
DTSTART;TZID=America/Chicago:20230120T120000
DTEND;TZID=America/Chicago:20230120T220000
DTSTAMP:20260425T072419
CREATED:20221220T141505Z
LAST-MODIFIED:20221221T135104Z
UID:10000847-1674216000-1674252000@www.greatbearpark.com
SUMMARY:Media One FunSki benefiting Children's Home Shelter for Family Safety
DESCRIPTION:Save the date for the 34th annual Media One FunSki benefiting Children’s Home Shelter for Family Safety! \nGreat Bear will still be open to the public for skiing\, snowboarding and tubing during FunSki. \nFriday\nFamily Tubing Night 4 to 9:30 pm\nTickets $10 – recommend buying online to reserve your spot: http://sportcodestore.com/greatbear\n\nRail Jam at 7 pm\n$20 per person – registration opens Jan 3 at funski.org\n\nSnow Sculpture Contest\nPreregister by January 9 – more info: https://www.funski.org/sculpt\nVote for your favorite starting at 8 pm!\n\nSaturday\nCross Country Race at 8 am (tentative\, dependent on snow)\n\nFat Tire Bike Race at 10 am\n$20 per person – registration opens Jan 3 at bikereg.com\n\nLiquid Lap at 11 am\n$20 for teams of 2 – registration opens Jan 3 at funski.org\n\nRace for Safety Giant Slalom\nSkiers at 1 pm\, Snowboarders at 3 pm\n$20 per person for each race – registration opens Jan 3 at funski.org\nCategories 10 & Under\, Ages 11+ Beginner\, Ages 11+ Intermediate\, Ages 11+ Advanced\n\nZipfy Sled Race at 4 pm\n$10 per entry – registration opens Jan 3 at funski.org\n\nRegistration closes 45 minutes before each event starts. Awards will be held approximately 30 minutes after each event ends.
URL:https://www.greatbearpark.com/event/media-one-funski-benefiting-childrens-home-shelter-for-family-safety/2023-01-20/
CATEGORIES:Events
END:VEVENT
END:VCALENDAR