BEGIN:VCALENDAR
VERSION:2.0
PRODID:-//Great Bear Ski Valley - ECPv6.13.0//NONSGML v1.0//EN
CALSCALE:GREGORIAN
METHOD:PUBLISH
X-WR-CALNAME:Great Bear Ski Valley
X-ORIGINAL-URL:https://www.greatbearpark.com
X-WR-CALDESC:Events for Great Bear Ski Valley
REFRESH-INTERVAL;VALUE=DURATION:PT1H
X-Robots-Tag:noindex
X-PUBLISHED-TTL:PT1H
BEGIN:VTIMEZONE
TZID:America/Chicago
BEGIN:DAYLIGHT
TZOFFSETFROM:-0600
TZOFFSETTO:-0500
TZNAME:CDT
DTSTART:20250309T080000
END:DAYLIGHT
BEGIN:STANDARD
TZOFFSETFROM:-0500
TZOFFSETTO:-0600
TZNAME:CST
DTSTART:20251102T070000
END:STANDARD
END:VTIMEZONE
BEGIN:VEVENT
DTSTART;VALUE=DATE:20250927
DTEND;VALUE=DATE:20250928
DTSTAMP:20260421T192110
CREATED:20250317T150133Z
LAST-MODIFIED:20250317T150133Z
UID:12917-1758931200-1759017599@www.greatbearpark.com
SUMMARY:Great Bear Trail Races & Free Kid Races
DESCRIPTION:The 3rd race in the Trail Run Series is at Great Bear!\nChoose from a 3 or 6 mile race and bring the kids along for the free 1 mile kids race at 10am. New cheaper pricing this year\, special pricing for 18 and under participants\, along with other exciting changes. \nSign up for all 4 races today! Navigate to Run Sioux Falls’ website (https://www.runsiouxfalls.org/trail-series-landing) and registration pages for all the info and to get signed up! \nFacebook Event Details Here
URL:https://www.greatbearpark.com/event/great-bear-trail-races-free-kid-races/
CATEGORIES:Events
END:VEVENT
END:VCALENDAR