BEGIN:VCALENDAR
VERSION:2.0
PRODID:-//Great Bear Ski Valley - ECPv6.13.0//NONSGML v1.0//EN
CALSCALE:GREGORIAN
METHOD:PUBLISH
X-WR-CALNAME:Great Bear Ski Valley
X-ORIGINAL-URL:https://www.greatbearpark.com
X-WR-CALDESC:Events for Great Bear Ski Valley
REFRESH-INTERVAL;VALUE=DURATION:PT1H
X-Robots-Tag:noindex
X-PUBLISHED-TTL:PT1H
BEGIN:VTIMEZONE
TZID:America/Chicago
BEGIN:DAYLIGHT
TZOFFSETFROM:-0600
TZOFFSETTO:-0500
TZNAME:CDT
DTSTART:20260308T080000
END:DAYLIGHT
BEGIN:STANDARD
TZOFFSETFROM:-0500
TZOFFSETTO:-0600
TZNAME:CST
DTSTART:20261101T070000
END:STANDARD
END:VTIMEZONE
BEGIN:VEVENT
DTSTART;TZID=America/Chicago:20260805T170000
DTEND;TZID=America/Chicago:20260805T200000
DTSTAMP:20260425T223757
CREATED:20260311T190337Z
LAST-MODIFIED:20260311T190337Z
UID:10003813-1785949200-1785960000@www.greatbearpark.com
SUMMARY:Chill At The Hill
DESCRIPTION:Chill At The Hill is back!\nEvery Wednesday June – September from 5:00pm – 8:00pm you will enjoy local eats\, local music\, games\, Great Bear beverages and the perfect vibes to carry you into Summer! \nSummer at The Bear has never looked so CHILL!
URL:https://www.greatbearpark.com/event/chill-at-the-hill-4/2026-08-05/
CATEGORIES:Events
END:VEVENT
END:VCALENDAR