BEGIN:VCALENDAR
VERSION:2.0
PRODID:-//Great Bear Ski Valley - ECPv6.13.0//NONSGML v1.0//EN
CALSCALE:GREGORIAN
METHOD:PUBLISH
X-WR-CALNAME:Great Bear Ski Valley
X-ORIGINAL-URL:https://www.greatbearpark.com
X-WR-CALDESC:Events for Great Bear Ski Valley
REFRESH-INTERVAL;VALUE=DURATION:PT1H
X-Robots-Tag:noindex
X-PUBLISHED-TTL:PT1H
BEGIN:VTIMEZONE
TZID:America/Chicago
BEGIN:DAYLIGHT
TZOFFSETFROM:-0600
TZOFFSETTO:-0500
TZNAME:CDT
DTSTART:20230312T080000
END:DAYLIGHT
BEGIN:STANDARD
TZOFFSETFROM:-0500
TZOFFSETTO:-0600
TZNAME:CST
DTSTART:20231105T070000
END:STANDARD
END:VTIMEZONE
BEGIN:VEVENT
DTSTART;VALUE=DATE:20230210
DTEND;VALUE=DATE:20230213
DTSTAMP:20260422T055130
CREATED:20221221T153856Z
LAST-MODIFIED:20230107T023020Z
UID:7799-1675987200-1676246399@www.greatbearpark.com
SUMMARY:Adaptive Weekend
DESCRIPTION:Individuals with disabilities who want to learn to ski using adaptive equipment\, this weekend is for you! In partnership with The Sioux Falls VA Health Care System.\n\n\n\nPrior registration is required and space is limited so sign up early! If you are interested in registering\, contact Kirsten at Kirsten.gerdes@va.gov or call 605-336-3230 x6454\n\nThe Great Bear Adaptive Ski Program (GBASP) provides people with special needs the opportunity to enjoy downhill snow skiing in a safe and fun learning environment. The program strives to positively enhance the lives of the people we serve by promoting health\, independence\, and well-being.
URL:https://www.greatbearpark.com/event/adaptive-weekend/
CATEGORIES:Events
END:VEVENT
END:VCALENDAR