BEGIN:VCALENDAR
VERSION:2.0
PRODID:-//Great Bear Ski Valley - ECPv6.13.0//NONSGML v1.0//EN
CALSCALE:GREGORIAN
METHOD:PUBLISH
X-WR-CALNAME:Great Bear Ski Valley
X-ORIGINAL-URL:https://www.greatbearpark.com
X-WR-CALDESC:Events for Great Bear Ski Valley
REFRESH-INTERVAL;VALUE=DURATION:PT1H
X-Robots-Tag:noindex
X-PUBLISHED-TTL:PT1H
BEGIN:VTIMEZONE
TZID:America/Chicago
BEGIN:DAYLIGHT
TZOFFSETFROM:-0600
TZOFFSETTO:-0500
TZNAME:CDT
DTSTART:20240310T080000
END:DAYLIGHT
BEGIN:STANDARD
TZOFFSETFROM:-0500
TZOFFSETTO:-0600
TZNAME:CST
DTSTART:20241103T070000
END:STANDARD
END:VTIMEZONE
BEGIN:VEVENT
DTSTART;TZID=America/Chicago:20240206T150000
DTEND;TZID=America/Chicago:20240206T210000
DTSTAMP:20260422T120910
CREATED:20231011T163829Z
LAST-MODIFIED:20240208T171957Z
UID:10001271-1707231600-1707253200@www.greatbearpark.com
SUMMARY:5th Grade Days
DESCRIPTION:Hey 5th graders\, $10 gets you a lift ticket\, ski or snowboard rental\, and helmet rental (based on availability) on Fridays & Tuesdays every week. \nRegistration and more details: www.greatbearpark.com/promotions/fifth-grade \n 
URL:https://www.greatbearpark.com/event/5th-grade-days-5/2024-02-06/
CATEGORIES:Promotions
END:VEVENT
END:VCALENDAR